BEGIN:VCALENDAR
VERSION:2.0
PRODID:iCalendar-Evo
X-WR-TIMEZONE:US/Central
BEGIN:VEVENT
DTSTAMP:20260419THI4339Z
URL:https://www.ennistx.gov/events/98752/
DTSTART;TZID=US/Central:20260303T180000
SUMMARY:City Commission Wastewater Workshop - March 3, 2026
DESCRIPTION:
UID:7eb06be5-e16e-4c5f-87b3-2067b78f98fb20260304T000000@www.ennistx.gov
END:VEVENT
BEGIN:VEVENT
DTSTAMP:20260419THI4339Z
URL:https://www.ennistx.gov/events/94776/
DTSTART;TZID=US/Central:20251021T180000
SUMMARY:City Commission Meeting - October 21, 2025
DESCRIPTION:
UID:333dfaab-86da-4cb1-aa03-edbcd14f26bc20251021T230000@www.ennistx.gov
END:VEVENT
BEGIN:VEVENT
DTSTAMP:20260419THI4339Z
URL:https://www.ennistx.gov/events/94991/
DTSTART;TZID=US/Central:20251104T180000
SUMMARY:City Commission Meeting - November 4, 2025
DESCRIPTION:
UID:593c5289-2f80-471e-9e44-6fcfc819348e20251105T000000@www.ennistx.gov
END:VEVENT
BEGIN:VEVENT
DTSTAMP:20260419THI4339Z
URL:https://www.ennistx.gov/events/95102/
DTSTART;TZID=US/Central:20251112T170000
SUMMARY:City Commission Special Meeting - November 12, 2025
DESCRIPTION:
UID:3a8c97a2-05ed-4d23-9789-05eb6bf6d8c420251112T230000@www.ennistx.gov
END:VEVENT
BEGIN:VEVENT
DTSTAMP:20260419THI4339Z
URL:https://www.ennistx.gov/events/95256/
DTSTART;TZID=US/Central:20251118T180000
SUMMARY:City Commission Meeting - November 18, 2025
DESCRIPTION:
UID:5cc7c47f-8764-4bd5-b7df-ae6beae65a6520251119T000000@www.ennistx.gov
END:VEVENT
BEGIN:VEVENT
DTSTAMP:20260419THI4339Z
URL:https://www.ennistx.gov/events/95582/
DTSTART;TZID=US/Central:20251202T180000
SUMMARY:City Commission Meeting - December 2, 2025
DESCRIPTION:
UID:b9ae430a-20b7-4108-be39-337e728049e420251203T000000@www.ennistx.gov
END:VEVENT
BEGIN:VEVENT
DTSTAMP:20260419THI4339Z
URL:https://www.ennistx.gov/events/95665/
DTSTART;TZID=US/Central:20251210T160000
SUMMARY:City Commission Special Meeting - December 10, 2025
DESCRIPTION:
UID:2312e3d6-2159-494e-9979-b1cd3487bd3720251210T220000@www.ennistx.gov
END:VEVENT
BEGIN:VEVENT
DTSTAMP:20260419THI4339Z
URL:https://www.ennistx.gov/events/95975/
DTSTART;TZID=US/Central:20251216T180000
SUMMARY:City Commission Meeting - December 16, 2025
DESCRIPTION:
UID:4fbeb17c-e4dd-4701-b635-f3f0aa19197a20251217T000000@www.ennistx.gov
END:VEVENT
BEGIN:VEVENT
DTSTAMP:20260419THI4339Z
URL:https://www.ennistx.gov/events/96073/
DTSTART;TZID=US/Central:20251219T170000
SUMMARY:Ennis City Commission Special Meeting  Dec 19, 2025
DESCRIPTION:
UID:c294635e-1b18-4d27-9b34-7c48fe84046d20251219T230000@www.ennistx.gov
END:VEVENT
BEGIN:VEVENT
DTSTAMP:20260419THI4339Z
URL:https://www.ennistx.gov/events/96697/
DTSTART;TZID=US/Central:20260106T150000
SUMMARY:Notice of Possible Quorum - January 6, 2026
DESCRIPTION:
UID:d5234bcf-47d8-4363-b45d-f7a104e4d5dd20260106T210000@www.ennistx.gov
END:VEVENT
BEGIN:VEVENT
DTSTAMP:20260419THI4339Z
URL:https://www.ennistx.gov/events/96699/
DTSTART;TZID=US/Central:20260106T180000
SUMMARY:City Commission Special Meeting - January 6, 2026
DESCRIPTION:
UID:ebe2531c-25a2-4995-86f1-c8ea1f9727c620260107T000000@www.ennistx.gov
END:VEVENT
BEGIN:VEVENT
DTSTAMP:20260419THI4339Z
URL:https://www.ennistx.gov/events/96794/
DTSTART;TZID=US/Central:20260108T173000
SUMMARY:Notice of Possible Quorum - Special Election Candidate Forum - January 8, 2026
DESCRIPTION:
UID:bf3d5cbf-74aa-4de2-85ef-c47c6ab2605a20260108T233000@www.ennistx.gov
END:VEVENT
BEGIN:VEVENT
DTSTAMP:20260419THI4339Z
URL:https://www.ennistx.gov/events/97068/
DTSTART;TZID=US/Central:20260109T170000
SUMMARY:City Commission Special Meeting  Jan 9, 2026
DESCRIPTION:
UID:d3013e85-86b8-4c9d-a885-14b9ad71202e20260109T230000@www.ennistx.gov
END:VEVENT
BEGIN:VEVENT
DTSTAMP:20260419THI4339Z
URL:https://www.ennistx.gov/events/97466/
DTSTART;TZID=US/Central:20260120T180000
SUMMARY:Ennis City Commission Meeting - Jan 20, 2026
DESCRIPTION:
UID:ca901c36-3f8d-4f41-9453-6b955bd3da2d20260121T000000@www.ennistx.gov
END:VEVENT
BEGIN:VEVENT
DTSTAMP:20260419THI4339Z
URL:https://www.ennistx.gov/events/97546/
DTSTART;TZID=US/Central:20260122T180000
SUMMARY:Notice of Possible Quorum - Water & Wastewater Town Hall 01-22-2026
DESCRIPTION:
UID:34916832-f7ae-4383-bfe6-fca51b32b3e520260123T000000@www.ennistx.gov
END:VEVENT
BEGIN:VEVENT
DTSTAMP:20260419THI4339Z
URL:https://www.ennistx.gov/events/97811/
DTSTART;TZID=US/Central:20260203T180000
SUMMARY:City Commission & Parks Board Joint Workshop - February 3, 2026
DESCRIPTION:
UID:3daac4d0-e746-4152-ab0a-b815cfbfa49b20260204T000000@www.ennistx.gov
END:VEVENT
BEGIN:VEVENT
DTSTAMP:20260419THI4339Z
URL:https://www.ennistx.gov/events/97981/
DTSTART;TZID=US/Central:20260209T170000
SUMMARY:Ennis City Commission Special Meeting  February 9, 2026
DESCRIPTION:
UID:9d7f3682-4e35-4c35-ae70-8f786476e91b20260209T230000@www.ennistx.gov
END:VEVENT
BEGIN:VEVENT
DTSTAMP:20260419THI4339Z
URL:https://www.ennistx.gov/events/97982/
DTSTART;TZID=US/Central:20260209T170000
SUMMARY:Ennis City Commission Special Meeting  February 9, 2026
DESCRIPTION:
UID:0e785992-4521-4737-a52a-650e93f31a1520260209T230000@www.ennistx.gov
END:VEVENT
BEGIN:VEVENT
DTSTAMP:20260419THI4339Z
URL:https://www.ennistx.gov/events/98441/
DTSTART;TZID=US/Central:20260217T180000
SUMMARY:City Commission Meeting - February 17, 2026
DESCRIPTION:
UID:93081f70-df7e-4d82-88fd-3a78848937d120260218T000000@www.ennistx.gov
END:VEVENT
BEGIN:VEVENT
DTSTAMP:20260419THI4339Z
URL:https://www.ennistx.gov/events/98743/
DTSTART;TZID=US/Central:20260303T160000
SUMMARY:Arts Commission Meeting - March 3, 2026
DESCRIPTION:
UID:520e39a6-eabd-43b9-a28e-2f0f90935c7120260303T220000@www.ennistx.gov
END:VEVENT
BEGIN:VEVENT
DTSTAMP:20260419THI4339Z
URL:https://www.ennistx.gov/events/98921/
DTSTART;TZID=US/Central:20260317T180000
SUMMARY:City Commission Meeting - March 17, 2026
DESCRIPTION:
UID:279dadd6-2a4f-45ec-8240-88982caa1ef720260317T230000@www.ennistx.gov
END:VEVENT
BEGIN:VEVENT
DTSTAMP:20260419THI4339Z
URL:https://www.ennistx.gov/events/98981/
DTSTART;TZID=US/Central:20260324T180000
SUMMARY:City Commission Special Meeting - March 24, 2026
DESCRIPTION:
UID:1a4eb3bd-26e7-4f86-984c-3a65c0ecdef120260324T230000@www.ennistx.gov
END:VEVENT
BEGIN:VEVENT
DTSTAMP:20260419THI4339Z
URL:https://www.ennistx.gov/events/98982/
DTSTART;TZID=US/Central:20260324T180000
SUMMARY:City Commission Special Meeting - March 24, 2026
DESCRIPTION:
UID:686aa939-6565-4fdf-8358-c1aa3a9980ac20260324T230000@www.ennistx.gov
END:VEVENT
BEGIN:VEVENT
DTSTAMP:20260419THI4339Z
URL:https://www.ennistx.gov/events/99334/
DTSTART;TZID=US/Central:20260413T180000
SUMMARY:City Commission Special Meeting - April 13, 2026
DESCRIPTION:
UID:75d2babd-1d6d-4195-8b0a-f13a4fe50d7620260413T230000@www.ennistx.gov
END:VEVENT
BEGIN:VEVENT
DTSTAMP:20260419THI4339Z
URL:https://www.ennistx.gov/events/99377/
DTSTART;TZID=US/Central:20260416T180000
SUMMARY:City Commission Special Meeting - April 16, 2026
DESCRIPTION:
UID:4230192e-adaa-43da-94a0-69931be1802d20260416T230000@www.ennistx.gov
END:VEVENT
BEGIN:VEVENT
DTSTAMP:20260419THI4339Z
URL:https://www.ennistx.gov/events/99172/
DTSTART;TZID=US/Central:20260407T180000
SUMMARY:City Commission Special Meeting - April 7, 2026
DESCRIPTION:
UID:4ddeaac7-473a-464e-8b25-688d3918586520260407T230000@www.ennistx.gov
END:VEVENT
BEGIN:VEVENT
DTSTAMP:20260419THI4339Z
URL:https://www.ennistx.gov/events/99447/
DTSTART;TZID=US/Central:20260421T180000
SUMMARY:City Commission Meeting - April 21, 2026
DESCRIPTION:
UID:f8fa5067-e48a-4dae-b290-f3ef78a25d2f20260421T230000@www.ennistx.gov
END:VEVENT
END:VCALENDAR