BEGIN:VCALENDAR
VERSION:2.0
PRODID:iCalendar-Evo
X-WR-TIMEZONE:US/Central
BEGIN:VEVENT
DTSTAMP:20260419THI4841Z
URL:https://www.ennistx.gov/events/98752/
DTSTART;TZID=US/Central:20260303T180000
SUMMARY:City Commission Wastewater Workshop - March 3, 2026
DESCRIPTION:
UID:7eb06be5-e16e-4c5f-87b3-2067b78f98fb20260304T000000@www.ennistx.gov
END:VEVENT
BEGIN:VEVENT
DTSTAMP:20260419THI4841Z
URL:https://www.ennistx.gov/events/94527/
DTSTART;TZID=US/Central:20251028T180000
SUMMARY:Zoning Board of Adjustments
DESCRIPTION:
LOCATION:City Hall at 107 N. Sherman St., Ennis, Texas 75119
GEO:32.32689509999999;-96.63053559999999
UID:17ca1d33-d898-41ed-a7ce-1586a234622320251028T223000@www.ennistx.gov
END:VEVENT
BEGIN:VEVENT
DTSTAMP:20260419THI4841Z
URL:https://www.ennistx.gov/events/94529/
DTSTART;TZID=US/Central:20251110T180000
SUMMARY:Planning and Zoning Commission Meeting
DESCRIPTION:
LOCATION:City Hall at 107 N. Sherman St., Ennis, Texas 75119
GEO:32.32689509999999;-96.63053559999999
UID:dd7516bb-0d47-4de1-8b90-c788d6d9bfe820251111T000000@www.ennistx.gov
END:VEVENT
BEGIN:VEVENT
DTSTAMP:20260419THI4841Z
URL:https://www.ennistx.gov/events/94676/
DTSTART;TZID=US/Central:20251027T173000
SUMMARY:Main Street Board Special Meeting - October 27, 2025
DESCRIPTION:
UID:130d1c22-bfbe-484b-adf5-ae60392e605420251027T223000@www.ennistx.gov
END:VEVENT
BEGIN:VEVENT
DTSTAMP:20260419THI4841Z
URL:https://www.ennistx.gov/events/94755/
DTSTART;TZID=US/Central:20251021T163000
SUMMARY:Arts Commission Meeting - October 21, 2025
DESCRIPTION:
UID:ac8fd42d-7d07-4257-b8ca-d01568ff905020251021T213000@www.ennistx.gov
END:VEVENT
BEGIN:VEVENT
DTSTAMP:20260419THI4841Z
URL:https://www.ennistx.gov/events/94776/
DTSTART;TZID=US/Central:20251021T180000
SUMMARY:City Commission Meeting - October 21, 2025
DESCRIPTION:
UID:333dfaab-86da-4cb1-aa03-edbcd14f26bc20251021T230000@www.ennistx.gov
END:VEVENT
BEGIN:VEVENT
DTSTAMP:20260419THI4841Z
URL:https://www.ennistx.gov/events/94974/
DTSTART;TZID=US/Central:20251103T133000
SUMMARY:Airport Board Meeting - November 3, 2025
DESCRIPTION:
UID:bef5723d-dc9c-48f2-8bc0-cac1ccb59e1720251103T193000@www.ennistx.gov
END:VEVENT
BEGIN:VEVENT
DTSTAMP:20260419THI4841Z
URL:https://www.ennistx.gov/events/94982/
DTSTART;TZID=US/Central:20251117T180000
SUMMARY:Historic Landmark Commission Meeting
DESCRIPTION:
LOCATION:City Hall at 107 N. Sherman St., Ennis, Texas 75119
GEO:32.32689509999999;-96.63053559999999
UID:21adf51d-37d2-4a38-a424-38320dd992f620251118T000000@www.ennistx.gov
END:VEVENT
BEGIN:VEVENT
DTSTAMP:20260419THI4841Z
URL:https://www.ennistx.gov/events/94991/
DTSTART;TZID=US/Central:20251104T180000
SUMMARY:City Commission Meeting - November 4, 2025
DESCRIPTION:
UID:593c5289-2f80-471e-9e44-6fcfc819348e20251105T000000@www.ennistx.gov
END:VEVENT
BEGIN:VEVENT
DTSTAMP:20260419THI4841Z
URL:https://www.ennistx.gov/events/95043/
DTSTART;TZID=US/Central:20251112T173000
SUMMARY:Main Street Board Meeting - November 12, 2025
DESCRIPTION:
UID:bbb10cbf-a97d-40fe-aca2-e7dfb4b5bd4e20251112T233000@www.ennistx.gov
END:VEVENT
BEGIN:VEVENT
DTSTAMP:20260419THI4841Z
URL:https://www.ennistx.gov/events/95061/
DTSTART;TZID=US/Central:20251110T170000
SUMMARY:Keep Ennis Beautiful Board Meeting - November 10, 2025
DESCRIPTION:
UID:23cb19d8-59f7-4af6-9018-a1bf8d8089b320251110T230000@www.ennistx.gov
END:VEVENT
BEGIN:VEVENT
DTSTAMP:20260419THI4841Z
URL:https://www.ennistx.gov/events/95102/
DTSTART;TZID=US/Central:20251112T170000
SUMMARY:City Commission Special Meeting - November 12, 2025
DESCRIPTION:
UID:3a8c97a2-05ed-4d23-9789-05eb6bf6d8c420251112T230000@www.ennistx.gov
END:VEVENT
BEGIN:VEVENT
DTSTAMP:20260419THI4841Z
URL:https://www.ennistx.gov/events/95178/
DTSTART;TZID=US/Central:20251118T163000
SUMMARY:Arts Commission Meeting - November 18, 2025
DESCRIPTION:
UID:bae79395-da01-4fba-8d37-5c6b7e4fa36820251118T223000@www.ennistx.gov
END:VEVENT
BEGIN:VEVENT
DTSTAMP:20260419THI4841Z
URL:https://www.ennistx.gov/events/95256/
DTSTART;TZID=US/Central:20251118T180000
SUMMARY:City Commission Meeting - November 18, 2025
DESCRIPTION:
UID:5cc7c47f-8764-4bd5-b7df-ae6beae65a6520251119T000000@www.ennistx.gov
END:VEVENT
BEGIN:VEVENT
DTSTAMP:20260419THI4841Z
URL:https://www.ennistx.gov/events/95292/
DTSTART;TZID=US/Central:20251120T173000
SUMMARY:Parks & Recreation Board Meeting - November 20, 2025
DESCRIPTION:
UID:ff5c58d4-4f8b-401c-88ec-9be6b43bc72d20251120T233000@www.ennistx.gov
END:VEVENT
BEGIN:VEVENT
DTSTAMP:20260419THI4841Z
URL:https://www.ennistx.gov/events/95304/
DTSTART;TZID=US/Central:20251208T180000
SUMMARY:Planning and Zoning Commission Meeting
DESCRIPTION:
LOCATION:City Hall at 107 N. Sherman St., Ennis, Texas 75119
GEO:32.32689509999999;-96.63053559999999
UID:dd22084d-faa6-4093-8b4a-2e2b90a9bd3c20251209T000000@www.ennistx.gov
END:VEVENT
BEGIN:VEVENT
DTSTAMP:20260419THI4841Z
URL:https://www.ennistx.gov/events/95305/
DTSTART;TZID=US/Central:20251215T180000
SUMMARY:Historic Landmark Commission Meeting
DESCRIPTION:
LOCATION:City Hall at 107 N. Sherman St., Ennis, Texas 75119
GEO:32.32689509999999;-96.63053559999999
UID:70877880-217f-4914-a730-aee67b56bd2d20251216T000000@www.ennistx.gov
END:VEVENT
BEGIN:VEVENT
DTSTAMP:20260419THI4841Z
URL:https://www.ennistx.gov/events/95309/
DTSTART;TZID=US/Central:20251125T173000
SUMMARY:Railroad and Cultural Heritage Museum Board Meeting - November 25, 2025
DESCRIPTION:
UID:3dcf1fd7-72c5-482f-8752-cdc144fa2bf320251125T233000@www.ennistx.gov
END:VEVENT
BEGIN:VEVENT
DTSTAMP:20260419THI4841Z
URL:https://www.ennistx.gov/events/95447/
DTSTART;TZID=US/Central:20251125T170000
SUMMARY:Economic Development Corporation Board Meeting - November 25, 2025
DESCRIPTION:
UID:ce03bfea-d3c9-40e1-818c-6fd68af4505b20251125T230000@www.ennistx.gov
END:VEVENT
BEGIN:VEVENT
DTSTAMP:20260419THI4841Z
URL:https://www.ennistx.gov/events/95526/
DTSTART;TZID=US/Central:20251203T173000
SUMMARY:Main Street Board Meeting - December 3, 2025
DESCRIPTION:
UID:7ff1b064-4b15-40a0-8000-5faa779de3bd20251203T233000@www.ennistx.gov
END:VEVENT
BEGIN:VEVENT
DTSTAMP:20260419THI4841Z
URL:https://www.ennistx.gov/events/95582/
DTSTART;TZID=US/Central:20251202T180000
SUMMARY:City Commission Meeting - December 2, 2025
DESCRIPTION:
UID:b9ae430a-20b7-4108-be39-337e728049e420251203T000000@www.ennistx.gov
END:VEVENT
BEGIN:VEVENT
DTSTAMP:20260419THI4841Z
URL:https://www.ennistx.gov/events/95644/
DTSTART;TZID=US/Central:20251209T180000
SUMMARY:Library Advisory Board Meeting - December 9, 2025
DESCRIPTION:
UID:c7971abe-1641-40f2-84a2-d8474a59a44120251210T000000@www.ennistx.gov
END:VEVENT
BEGIN:VEVENT
DTSTAMP:20260419THI4841Z
URL:https://www.ennistx.gov/events/95665/
DTSTART;TZID=US/Central:20251210T160000
SUMMARY:City Commission Special Meeting - December 10, 2025
DESCRIPTION:
UID:2312e3d6-2159-494e-9979-b1cd3487bd3720251210T220000@www.ennistx.gov
END:VEVENT
BEGIN:VEVENT
DTSTAMP:20260419THI4841Z
URL:https://www.ennistx.gov/events/95688/
DTSTART;TZID=US/Central:20251211T170000
SUMMARY:Kaufman Development District Board Meeting - December 11, 2025
DESCRIPTION:
UID:32c5fcb1-f165-4c4e-ae76-66c2ffd7c10120251211T230000@www.ennistx.gov
END:VEVENT
BEGIN:VEVENT
DTSTAMP:20260419THI4841Z
URL:https://www.ennistx.gov/events/95975/
DTSTART;TZID=US/Central:20251216T180000
SUMMARY:City Commission Meeting - December 16, 2025
DESCRIPTION:
UID:4fbeb17c-e4dd-4701-b635-f3f0aa19197a20251217T000000@www.ennistx.gov
END:VEVENT
BEGIN:VEVENT
DTSTAMP:20260419THI4841Z
URL:https://www.ennistx.gov/events/95979/
DTSTART;TZID=US/Central:20251217T133000
SUMMARY:Airport Board Meeting - December 17, 2025
DESCRIPTION:
UID:1e50c76b-4598-4c89-a857-031689c9ceee20251217T193000@www.ennistx.gov
END:VEVENT
BEGIN:VEVENT
DTSTAMP:20260419THI4841Z
URL:https://www.ennistx.gov/events/96040/
DTSTART;TZID=US/Central:20251217T173000
SUMMARY:Parks & Recreation Board Meeting - December 17, 2025
DESCRIPTION:
UID:336c6c81-8d99-4d21-8a5a-ab7f7632efd320251217T233000@www.ennistx.gov
END:VEVENT
BEGIN:VEVENT
DTSTAMP:20260419THI4841Z
URL:https://www.ennistx.gov/events/96073/
DTSTART;TZID=US/Central:20251219T170000
SUMMARY:Ennis City Commission Special Meeting  Dec 19, 2025
DESCRIPTION:
UID:c294635e-1b18-4d27-9b34-7c48fe84046d20251219T230000@www.ennistx.gov
END:VEVENT
BEGIN:VEVENT
DTSTAMP:20260419THI4842Z
URL:https://www.ennistx.gov/events/96697/
DTSTART;TZID=US/Central:20260106T150000
SUMMARY:Notice of Possible Quorum - January 6, 2026
DESCRIPTION:
UID:d5234bcf-47d8-4363-b45d-f7a104e4d5dd20260106T210000@www.ennistx.gov
END:VEVENT
BEGIN:VEVENT
DTSTAMP:20260419THI4842Z
URL:https://www.ennistx.gov/events/96699/
DTSTART;TZID=US/Central:20260106T180000
SUMMARY:City Commission Special Meeting - January 6, 2026
DESCRIPTION:
UID:ebe2531c-25a2-4995-86f1-c8ea1f9727c620260107T000000@www.ennistx.gov
END:VEVENT
BEGIN:VEVENT
DTSTAMP:20260419THI4842Z
URL:https://www.ennistx.gov/events/96717/
DTSTART;TZID=US/Central:20260107T173000
SUMMARY:Main Street Board Meeting - January 7, 2026
DESCRIPTION:
UID:7266036b-9651-45f1-8a41-2e986fda6c9120260107T233000@www.ennistx.gov
END:VEVENT
BEGIN:VEVENT
DTSTAMP:20260419THI4842Z
URL:https://www.ennistx.gov/events/96794/
DTSTART;TZID=US/Central:20260108T173000
SUMMARY:Notice of Possible Quorum - Special Election Candidate Forum - January 8, 2026
DESCRIPTION:
UID:bf3d5cbf-74aa-4de2-85ef-c47c6ab2605a20260108T233000@www.ennistx.gov
END:VEVENT
BEGIN:VEVENT
DTSTAMP:20260419THI4842Z
URL:https://www.ennistx.gov/events/97068/
DTSTART;TZID=US/Central:20260109T170000
SUMMARY:City Commission Special Meeting  Jan 9, 2026
DESCRIPTION:
UID:d3013e85-86b8-4c9d-a885-14b9ad71202e20260109T230000@www.ennistx.gov
END:VEVENT
BEGIN:VEVENT
DTSTAMP:20260419THI4842Z
URL:https://www.ennistx.gov/events/97146/
DTSTART;TZID=US/Central:20260112T170000
SUMMARY:Keep Ennis Beautiful Board Meeting - January 12, 2026
DESCRIPTION:
UID:4fe9e37d-8b2c-4863-a0ac-ca3392fed45820260112T230000@www.ennistx.gov
END:VEVENT
BEGIN:VEVENT
DTSTAMP:20260419THI4842Z
URL:https://www.ennistx.gov/events/97320/
DTSTART;TZID=US/Central:20260113T170000
SUMMARY:Economic Development Corporation Board Meeting - January 13, 2026
DESCRIPTION:
UID:c7efb38f-b1d3-4127-9b5a-8f3462e4d2f720260113T230000@www.ennistx.gov
END:VEVENT
BEGIN:VEVENT
DTSTAMP:20260419THI4842Z
URL:https://www.ennistx.gov/events/97466/
DTSTART;TZID=US/Central:20260120T180000
SUMMARY:Ennis City Commission Meeting - Jan 20, 2026
DESCRIPTION:
UID:ca901c36-3f8d-4f41-9453-6b955bd3da2d20260121T000000@www.ennistx.gov
END:VEVENT
BEGIN:VEVENT
DTSTAMP:20260419THI4842Z
URL:https://www.ennistx.gov/events/97477/
DTSTART;TZID=US/Central:20260121T173000
SUMMARY:Parks & Recreation Board Meeting - January 21, 2026
DESCRIPTION:
UID:139d7c21-a8fc-456c-9997-03caf3bc6c1220260121T233000@www.ennistx.gov
END:VEVENT
BEGIN:VEVENT
DTSTAMP:20260419THI4842Z
URL:https://www.ennistx.gov/events/97546/
DTSTART;TZID=US/Central:20260122T180000
SUMMARY:Notice of Possible Quorum - Water & Wastewater Town Hall 01-22-2026
DESCRIPTION:
UID:34916832-f7ae-4383-bfe6-fca51b32b3e520260123T000000@www.ennistx.gov
END:VEVENT
BEGIN:VEVENT
DTSTAMP:20260419THI4842Z
URL:https://www.ennistx.gov/events/97643/
DTSTART;TZID=US/Central:20260127T173000
SUMMARY:Railroad and Cultural Heritage Museum Board Meeting - January 27, 2026
DESCRIPTION:
UID:e5d4ae27-0ea3-4f68-868a-27a7b495c3e120260127T233000@www.ennistx.gov
END:VEVENT
BEGIN:VEVENT
DTSTAMP:20260419THI4842Z
URL:https://www.ennistx.gov/events/97684/
DTSTART;TZID=US/Central:20260127T163000
SUMMARY:Arts Commission Meeting - January 27, 2026
DESCRIPTION:
UID:4a1b9c28-ee0d-4559-bc60-5c552a0c59df20260127T223000@www.ennistx.gov
END:VEVENT
BEGIN:VEVENT
DTSTAMP:20260419THI4842Z
URL:https://www.ennistx.gov/events/97698/
DTSTART;TZID=US/Central:20260128T133000
SUMMARY:Airport Board Special Meeting - January 28, 2026
DESCRIPTION:MEETING CANCELLED 
UID:a970a777-b2de-4eaa-bf86-2fa7899552a220260128T193000@www.ennistx.gov
END:VEVENT
BEGIN:VEVENT
DTSTAMP:20260419THI4842Z
URL:https://www.ennistx.gov/events/97807/
DTSTART;TZID=US/Central:20260204T173000
SUMMARY:Main Street Board Meeting - February 4, 2026
DESCRIPTION:
UID:35761378-f4c3-4d84-9e42-bcf2d99ca1ec20260204T233000@www.ennistx.gov
END:VEVENT
BEGIN:VEVENT
DTSTAMP:20260419THI4842Z
URL:https://www.ennistx.gov/events/97808/
DTSTART;TZID=US/Central:20260203T163000
SUMMARY:Arts Commission Meeting - February 3, 2026
DESCRIPTION:
UID:6e76d20d-b4b2-4acd-956a-c66ac10fe94620260203T223000@www.ennistx.gov
END:VEVENT
BEGIN:VEVENT
DTSTAMP:20260419THI4842Z
URL:https://www.ennistx.gov/events/97811/
DTSTART;TZID=US/Central:20260203T180000
SUMMARY:City Commission & Parks Board Joint Workshop - February 3, 2026
DESCRIPTION:
UID:3daac4d0-e746-4152-ab0a-b815cfbfa49b20260204T000000@www.ennistx.gov
END:VEVENT
BEGIN:VEVENT
DTSTAMP:20260419THI4842Z
URL:https://www.ennistx.gov/events/97936/
DTSTART;TZID=US/Central:20260209T170000
SUMMARY:Keep Ennis Beautiful Board Meeting - February 9, 2026
DESCRIPTION:
UID:501b7e79-b164-41c1-85ef-3c50671638a720260209T230000@www.ennistx.gov
END:VEVENT
BEGIN:VEVENT
DTSTAMP:20260419THI4842Z
URL:https://www.ennistx.gov/events/97937/
DTSTART;TZID=US/Central:20260209T180000
SUMMARY:Planning and Zoning Commission Meeting
DESCRIPTION:
LOCATION:City Hall at 107 N. Sherman St., Ennis, Texas 75119
GEO:32.32689509999999;-96.63053559999999
UID:512d1e91-d2fe-451a-91a0-1940aef4452620260210T000000@www.ennistx.gov
END:VEVENT
BEGIN:VEVENT
DTSTAMP:20260419THI4842Z
URL:https://www.ennistx.gov/events/97938/
DTSTART;TZID=US/Central:20260216T180000
SUMMARY:Historic Landmark Commission Meeting
DESCRIPTION:
LOCATION:City Hall at 107 N. Sherman St., Ennis, Texas 75119
GEO:32.32689509999999;-96.63053559999999
UID:6ab6ad2b-52d9-4cca-a3e2-50799d347bef20260217T000000@www.ennistx.gov
END:VEVENT
BEGIN:VEVENT
DTSTAMP:20260419THI4842Z
URL:https://www.ennistx.gov/events/97939/
DTSTART;TZID=US/Central:20260210T180000
SUMMARY:Library Advisory Board Meeting - February 10, 2026
DESCRIPTION:
UID:ff8d1f38-e1e6-4ed1-9e70-558cc6c82ed820260211T000000@www.ennistx.gov
END:VEVENT
BEGIN:VEVENT
DTSTAMP:20260419THI4842Z
URL:https://www.ennistx.gov/events/97981/
DTSTART;TZID=US/Central:20260209T170000
SUMMARY:Ennis City Commission Special Meeting  February 9, 2026
DESCRIPTION:
UID:9d7f3682-4e35-4c35-ae70-8f786476e91b20260209T230000@www.ennistx.gov
END:VEVENT
BEGIN:VEVENT
DTSTAMP:20260419THI4842Z
URL:https://www.ennistx.gov/events/97982/
DTSTART;TZID=US/Central:20260209T170000
SUMMARY:Ennis City Commission Special Meeting  February 9, 2026
DESCRIPTION:
UID:0e785992-4521-4737-a52a-650e93f31a1520260209T230000@www.ennistx.gov
END:VEVENT
BEGIN:VEVENT
DTSTAMP:20260419THI4842Z
URL:https://www.ennistx.gov/events/98312/
DTSTART;TZID=US/Central:20260210T170000
SUMMARY:Economic Development Corporation Board Meeting - February 10, 2026
DESCRIPTION:
UID:7869944b-a451-482f-8455-73565aebfa9120260210T230000@www.ennistx.gov
END:VEVENT
BEGIN:VEVENT
DTSTAMP:20260419THI4842Z
URL:https://www.ennistx.gov/events/99105/
DTSTART;TZID=US/Central:20260331T100000
SUMMARY:Economic Development Corporation Board Workshop - March 31, 2026
DESCRIPTION:
UID:48af63e7-2135-4a0a-8d42-817cc122c99520260331T150000@www.ennistx.gov
END:VEVENT
BEGIN:VEVENT
DTSTAMP:20260419THI4842Z
URL:https://www.ennistx.gov/events/98441/
DTSTART;TZID=US/Central:20260217T180000
SUMMARY:City Commission Meeting - February 17, 2026
DESCRIPTION:
UID:93081f70-df7e-4d82-88fd-3a78848937d120260218T000000@www.ennistx.gov
END:VEVENT
BEGIN:VEVENT
DTSTAMP:20260419THI4842Z
URL:https://www.ennistx.gov/events/98463/
DTSTART;TZID=US/Central:20260219T170000
SUMMARY:Kaufman Development District Board Meeting - February 19, 2026
DESCRIPTION:
UID:7dee1b92-b9e1-4f48-949b-256301ed580320260219T230000@www.ennistx.gov
END:VEVENT
BEGIN:VEVENT
DTSTAMP:20260419THI4842Z
URL:https://www.ennistx.gov/events/98465/
DTSTART;TZID=US/Central:20260218T170000
SUMMARY:Parks & Recreation Board Meeting - February 18, 2026
DESCRIPTION:
UID:a9fe8b08-27f4-4dbe-94ee-032e308b9c1f20260218T230000@www.ennistx.gov
END:VEVENT
BEGIN:VEVENT
DTSTAMP:20260419THI4842Z
URL:https://www.ennistx.gov/events/98476/
DTSTART;TZID=US/Central:20260217T133000
SUMMARY:Airport Advisory Board Special Meeting - February 17, 2026
DESCRIPTION:
UID:b7350cf3-f7d5-4d41-ae59-f2e2704e3b9820260217T193000@www.ennistx.gov
END:VEVENT
BEGIN:VEVENT
DTSTAMP:20260419THI4842Z
URL:https://www.ennistx.gov/events/98638/
DTSTART;TZID=US/Central:20260224T173000
SUMMARY:Railroad and Cultural Heritage Museum Board Meeting - February 24, 2026
DESCRIPTION:
UID:5c8026eb-3078-479a-a972-c4847e60b04820260224T233000@www.ennistx.gov
END:VEVENT
BEGIN:VEVENT
DTSTAMP:20260419THI4842Z
URL:https://www.ennistx.gov/events/98737/
DTSTART;TZID=US/Central:20260304T173000
SUMMARY:Main Street Board Meeting - March 4, 2026
DESCRIPTION:
UID:f1df00df-5f00-42e3-ba75-a228ffc1d37b20260304T233000@www.ennistx.gov
END:VEVENT
BEGIN:VEVENT
DTSTAMP:20260419THI4842Z
URL:https://www.ennistx.gov/events/98743/
DTSTART;TZID=US/Central:20260303T160000
SUMMARY:Arts Commission Meeting - March 3, 2026
DESCRIPTION:
UID:520e39a6-eabd-43b9-a28e-2f0f90935c7120260303T220000@www.ennistx.gov
END:VEVENT
BEGIN:VEVENT
DTSTAMP:20260419THI4842Z
URL:https://www.ennistx.gov/events/98816/
DTSTART;TZID=US/Central:20260309T170000
SUMMARY:Keep Ennis Beautiful Board Meeting - March 9, 2026 (CANCELLED)
DESCRIPTION:
UID:8b022cb1-b827-48ac-a57e-0d1c722fbf0920260309T220000@www.ennistx.gov
END:VEVENT
BEGIN:VEVENT
DTSTAMP:20260419THI4842Z
URL:https://www.ennistx.gov/events/98817/
DTSTART;TZID=US/Central:20260309T180000
SUMMARY:Planning and Zoning Commission Meeting
DESCRIPTION:
LOCATION:City Hall at 107 N. Sherman St., Ennis, Texas 75119
GEO:32.32689509999999;-96.63053559999999
UID:3c12e7a8-152e-4450-b90c-9b90189425d120260309T230000@www.ennistx.gov
END:VEVENT
BEGIN:VEVENT
DTSTAMP:20260419THI4842Z
URL:https://www.ennistx.gov/events/98851/
DTSTART;TZID=US/Central:20260312T170000
SUMMARY:Economic Development Corporation Board Meeting - March 12, 2026
DESCRIPTION:
UID:0bca92fe-a797-4913-97e3-08df6725e72120260312T220000@www.ennistx.gov
END:VEVENT
BEGIN:VEVENT
DTSTAMP:20260419THI4842Z
URL:https://www.ennistx.gov/events/98863/
DTSTART;TZID=US/Central:20260323T180000
SUMMARY:Planning and Zoning Commission Meeting
DESCRIPTION:
LOCATION:City Hall at 107 N. Sherman St., Ennis, Texas 75119
GEO:32.32689509999999;-96.63053559999999
UID:6f273847-d968-4cfd-802a-2b9012a5f3f220260323T230000@www.ennistx.gov
END:VEVENT
BEGIN:VEVENT
DTSTAMP:20260419THI4842Z
URL:https://www.ennistx.gov/events/98890/
DTSTART;TZID=US/Central:20260316T170000
SUMMARY:Keep Ennis Beautiful Board Meeting - March 16, 2026
DESCRIPTION:
UID:ce2c7ffc-8a0d-448d-b05f-b88f34d78a5820260316T220000@www.ennistx.gov
END:VEVENT
BEGIN:VEVENT
DTSTAMP:20260419THI4842Z
URL:https://www.ennistx.gov/events/98862/
DTSTART;TZID=US/Central:20260316T180000
SUMMARY:Historic Landmark Commission Meeting
DESCRIPTION:
LOCATION:City Hall at 107 N. Sherman St., Ennis, Texas 75119
GEO:32.32689509999999;-96.63053559999999
UID:ca5f13e2-ee1e-4089-aee6-1df13858149320260316T230000@www.ennistx.gov
END:VEVENT
BEGIN:VEVENT
DTSTAMP:20260419THI4842Z
URL:https://www.ennistx.gov/events/98921/
DTSTART;TZID=US/Central:20260317T180000
SUMMARY:City Commission Meeting - March 17, 2026
DESCRIPTION:
UID:279dadd6-2a4f-45ec-8240-88982caa1ef720260317T230000@www.ennistx.gov
END:VEVENT
BEGIN:VEVENT
DTSTAMP:20260419THI4842Z
URL:https://www.ennistx.gov/events/98926/
DTSTART;TZID=US/Central:20260319T170000
SUMMARY:Kaufman Development District Board Meeting - March 19, 2026 CANCELLED
DESCRIPTION:
UID:d477e824-b170-4819-a7a1-b4f5913d15d720260319T220000@www.ennistx.gov
END:VEVENT
BEGIN:VEVENT
DTSTAMP:20260419THI4842Z
URL:https://www.ennistx.gov/events/98928/
DTSTART;TZID=US/Central:20260318T173000
SUMMARY:Parks & Recreation Board Meeting - March 18, 2026
DESCRIPTION:
UID:987a2f7c-f059-41d4-bfa7-048f3ee1e88d20260318T223000@www.ennistx.gov
END:VEVENT
BEGIN:VEVENT
DTSTAMP:20260419THI4842Z
URL:https://www.ennistx.gov/events/98977/
DTSTART;TZID=US/Central:20260324T163000
SUMMARY:Arts Commission Meeting - March 24, 2026
DESCRIPTION:
UID:62f08882-ddd4-45bf-b84e-6d072f50841820260324T213000@www.ennistx.gov
END:VEVENT
BEGIN:VEVENT
DTSTAMP:20260419THI4842Z
URL:https://www.ennistx.gov/events/98981/
DTSTART;TZID=US/Central:20260324T180000
SUMMARY:City Commission Special Meeting - March 24, 2026
DESCRIPTION:
UID:1a4eb3bd-26e7-4f86-984c-3a65c0ecdef120260324T230000@www.ennistx.gov
END:VEVENT
BEGIN:VEVENT
DTSTAMP:20260419THI4842Z
URL:https://www.ennistx.gov/events/98982/
DTSTART;TZID=US/Central:20260324T180000
SUMMARY:City Commission Special Meeting - March 24, 2026
DESCRIPTION:
UID:686aa939-6565-4fdf-8358-c1aa3a9980ac20260324T230000@www.ennistx.gov
END:VEVENT
BEGIN:VEVENT
DTSTAMP:20260419THI4842Z
URL:https://www.ennistx.gov/events/99334/
DTSTART;TZID=US/Central:20260413T180000
SUMMARY:City Commission Special Meeting - April 13, 2026
DESCRIPTION:
UID:75d2babd-1d6d-4195-8b0a-f13a4fe50d7620260413T230000@www.ennistx.gov
END:VEVENT
BEGIN:VEVENT
DTSTAMP:20260419THI4842Z
URL:https://www.ennistx.gov/events/99338/
DTSTART;TZID=US/Central:20260413T180000
SUMMARY:Planning and Zoning Commission Meeting
DESCRIPTION:
LOCATION:Ennis Welcome Center at 201 NW Main Street, Ennis, Texas 75119
GEO:32.32929999999998;-96.62529999999997
STREET-ADDRESS:201 NW Main Street
EXTENDED-ADDRESS:201 NW Main Street
LOCALITY:Ennis
REGION:Texas
POSTAL-CODE:75119
UID:bb8fe48c-ccd6-4127-a45e-9e9798fa2ce320260413T230000@www.ennistx.gov
END:VEVENT
BEGIN:VEVENT
DTSTAMP:20260419THI4842Z
URL:https://www.ennistx.gov/events/99339/
DTSTART;TZID=US/Central:20260414T180000
SUMMARY:Library Advisory Board Meeting - April 14, 2026
DESCRIPTION:
UID:7d9040c5-cb87-4372-a9e3-d15fef35880720260414T230000@www.ennistx.gov
END:VEVENT
BEGIN:VEVENT
DTSTAMP:20260419THI4842Z
URL:https://www.ennistx.gov/events/99377/
DTSTART;TZID=US/Central:20260416T180000
SUMMARY:City Commission Special Meeting - April 16, 2026
DESCRIPTION:
UID:4230192e-adaa-43da-94a0-69931be1802d20260416T230000@www.ennistx.gov
END:VEVENT
BEGIN:VEVENT
DTSTAMP:20260419THI4842Z
URL:https://www.ennistx.gov/events/99360/
DTSTART;TZID=US/Central:20260416T170000
SUMMARY:Kaufman Development District Board Meeting - April 16, 2026
DESCRIPTION:
UID:9405062d-e9f2-411b-8d1e-fec13ff4be1020260416T220000@www.ennistx.gov
END:VEVENT
BEGIN:VEVENT
DTSTAMP:20260419THI4842Z
URL:https://www.ennistx.gov/events/99172/
DTSTART;TZID=US/Central:20260407T180000
SUMMARY:City Commission Special Meeting - April 7, 2026
DESCRIPTION:
UID:4ddeaac7-473a-464e-8b25-688d3918586520260407T230000@www.ennistx.gov
END:VEVENT
BEGIN:VEVENT
DTSTAMP:20260419THI4842Z
URL:https://www.ennistx.gov/events/99331/
DTSTART;TZID=US/Central:20260414T130000
SUMMARY:Economic Development Corporation Special Meeting - April 14, 2026
DESCRIPTION:
UID:56ffee98-3ecd-4aa4-a1f0-c43d88edb7f720260414T180000@www.ennistx.gov
END:VEVENT
BEGIN:VEVENT
DTSTAMP:20260419THI4842Z
URL:https://www.ennistx.gov/events/99349/
DTSTART;TZID=US/Central:20260414T180000
SUMMARY:Zoning Board of Adjustment Meeting
DESCRIPTION:
LOCATION:City Hall at 107 N. Sherman St., Ennis, Texas 75119
GEO:32.32689509999999;-96.63053559999999
UID:bc5f79e5-9ef8-420b-b6ce-3165b25a490e20260414T230000@www.ennistx.gov
END:VEVENT
BEGIN:VEVENT
DTSTAMP:20260419THI4842Z
URL:https://www.ennistx.gov/events/99400/
DTSTART;TZID=US/Central:20260420T180000
SUMMARY:Historic Landmark Commission Meeting
DESCRIPTION:
LOCATION:City Hall at 107 N. Sherman St., Ennis, Texas 75119
GEO:32.32689509999999;-96.63053559999999
UID:1e4d71b4-e952-4704-bd43-f4c3fb08a14220260420T230000@www.ennistx.gov
END:VEVENT
BEGIN:VEVENT
DTSTAMP:20260419THI4842Z
URL:https://www.ennistx.gov/events/99447/
DTSTART;TZID=US/Central:20260421T180000
SUMMARY:City Commission Meeting - April 21, 2026
DESCRIPTION:
UID:f8fa5067-e48a-4dae-b290-f3ef78a25d2f20260421T230000@www.ennistx.gov
END:VEVENT
END:VCALENDAR