BEGIN:VCALENDAR
VERSION:2.0
PRODID:iCalendar-Evo
X-WR-TIMEZONE:US/Central
BEGIN:VEVENT
DTSTAMP:20260419THI4718Z
URL:https://www.ennistx.gov/events/94982/
DTSTART;TZID=US/Central:20251117T180000
SUMMARY:Historic Landmark Commission Meeting
DESCRIPTION:
LOCATION:City Hall at 107 N. Sherman St., Ennis, Texas 75119
GEO:32.32689509999999;-96.63053559999999
UID:21adf51d-37d2-4a38-a424-38320dd992f620251118T000000@www.ennistx.gov
END:VEVENT
BEGIN:VEVENT
DTSTAMP:20260419THI4718Z
URL:https://www.ennistx.gov/events/95305/
DTSTART;TZID=US/Central:20251215T180000
SUMMARY:Historic Landmark Commission Meeting
DESCRIPTION:
LOCATION:City Hall at 107 N. Sherman St., Ennis, Texas 75119
GEO:32.32689509999999;-96.63053559999999
UID:70877880-217f-4914-a730-aee67b56bd2d20251216T000000@www.ennistx.gov
END:VEVENT
BEGIN:VEVENT
DTSTAMP:20260419THI4718Z
URL:https://www.ennistx.gov/events/97546/
DTSTART;TZID=US/Central:20260122T180000
SUMMARY:Notice of Possible Quorum - Water & Wastewater Town Hall 01-22-2026
DESCRIPTION:
UID:34916832-f7ae-4383-bfe6-fca51b32b3e520260123T000000@www.ennistx.gov
END:VEVENT
BEGIN:VEVENT
DTSTAMP:20260419THI4718Z
URL:https://www.ennistx.gov/events/97938/
DTSTART;TZID=US/Central:20260216T180000
SUMMARY:Historic Landmark Commission Meeting
DESCRIPTION:
LOCATION:City Hall at 107 N. Sherman St., Ennis, Texas 75119
GEO:32.32689509999999;-96.63053559999999
UID:6ab6ad2b-52d9-4cca-a3e2-50799d347bef20260217T000000@www.ennistx.gov
END:VEVENT
BEGIN:VEVENT
DTSTAMP:20260419THI4718Z
URL:https://www.ennistx.gov/events/98862/
DTSTART;TZID=US/Central:20260316T180000
SUMMARY:Historic Landmark Commission Meeting
DESCRIPTION:
LOCATION:City Hall at 107 N. Sherman St., Ennis, Texas 75119
GEO:32.32689509999999;-96.63053559999999
UID:ca5f13e2-ee1e-4089-aee6-1df13858149320260316T230000@www.ennistx.gov
END:VEVENT
BEGIN:VEVENT
DTSTAMP:20260419THI4718Z
URL:https://www.ennistx.gov/events/99400/
DTSTART;TZID=US/Central:20260420T180000
SUMMARY:Historic Landmark Commission Meeting
DESCRIPTION:
LOCATION:City Hall at 107 N. Sherman St., Ennis, Texas 75119
GEO:32.32689509999999;-96.63053559999999
UID:1e4d71b4-e952-4704-bd43-f4c3fb08a14220260420T230000@www.ennistx.gov
END:VEVENT
END:VCALENDAR