BEGIN:VCALENDAR
VERSION:2.0
PRODID:iCalendar-Evo
X-WR-TIMEZONE:US/Central
BEGIN:VEVENT
DTSTAMP:20260423THI5102Z
URL:https://www.ennistx.gov/events/97336/
DTSTART;TZID=US/Central:20260124T110000
DTEND;TZID=US/Central:20260124T120000
SUMMARY:Adult Craft Event - DIY Bookmarks
DESCRIPTION: 
LOCATION:Ennis Public Library at 501 W. Ennis Ave., Ennis, Texas 75119
GEO:32.32546599999999;-96.6311475
UID:c4c9c1ac-7a22-4167-ae33-30535e81c57e20260124T170000@www.ennistx.gov
END:VEVENT
END:VCALENDAR